BEGIN:VCALENDAR
VERSION:2.0
PRODID:-// - ECPv6.15.20//NONSGML v1.0//EN
CALSCALE:GREGORIAN
METHOD:PUBLISH
X-ORIGINAL-URL:http://panafricanimg.co.ke
X-WR-CALDESC:Events for 
REFRESH-INTERVAL;VALUE=DURATION:PT1H
X-Robots-Tag:noindex
X-PUBLISHED-TTL:PT1H
BEGIN:VTIMEZONE
TZID:Europe/Moscow
BEGIN:STANDARD
TZOFFSETFROM:+0300
TZOFFSETTO:+0300
TZNAME:MSK
DTSTART:20150101T000000
END:STANDARD
END:VTIMEZONE
BEGIN:VTIMEZONE
TZID:UTC
BEGIN:STANDARD
TZOFFSETFROM:+0000
TZOFFSETTO:+0000
TZNAME:UTC
DTSTART:20150101T000000
END:STANDARD
END:VTIMEZONE
BEGIN:VEVENT
DTSTART;TZID=Europe/Moscow:20161102T080000
DTEND;TZID=Europe/Moscow:20161104T170000
DTSTAMP:20260419T170916
CREATED:20160714T061132Z
LAST-MODIFIED:20160805T084543Z
UID:2438-1478073600-1478278800@panafricanimg.co.ke
SUMMARY:FORENSIC AUDITING & FINANCIAL FRAUD DETECTION
DESCRIPTION:
URL:http://panafricanimg.co.ke/event/forensic-auditing-financial-fraud-detection/
LOCATION:Mombasa Travelers Beach Hotel\, Mombasa\, Kenya
ORGANIZER;CN="PAN AFRICAN INSTITUTE OF MANAGEMENT AND GOVERNANCE":MAILTO:info@panafricanimg.co.ke
END:VEVENT
BEGIN:VEVENT
DTSTART;TZID=UTC:20161026T080000
DTEND;TZID=UTC:20161028T170000
DTSTAMP:20260419T170916
CREATED:20160805T084428Z
LAST-MODIFIED:20160805T084429Z
UID:2610-1477468800-1477674000@panafricanimg.co.ke
SUMMARY:NATIONAL COHESION & INTEGRATION
DESCRIPTION:
URL:http://panafricanimg.co.ke/event/national-cohesion-integration/
LOCATION:Mombasa Travelers Beach Hotel\, Mombasa\, Kenya
ORGANIZER;CN="PAN AFRICAN INSTITUTE OF MANAGEMENT AND GOVERNANCE":MAILTO:info@panafricanimg.co.ke
END:VEVENT
BEGIN:VEVENT
DTSTART;TZID=Europe/Moscow:20161019T080000
DTEND;TZID=Europe/Moscow:20161019T170000
DTSTAMP:20260419T170916
CREATED:20160714T061609Z
LAST-MODIFIED:20160714T061610Z
UID:2442-1476864000-1476896400@panafricanimg.co.ke
SUMMARY:IFRS & CORPORATE REPORTING SEMINAR
DESCRIPTION:More details coming soon.
URL:http://panafricanimg.co.ke/event/ifrs-corporate-reporting-seminar/
ORGANIZER;CN="PAN AFRICAN INSTITUTE OF MANAGEMENT AND GOVERNANCE":MAILTO:info@panafricanimg.co.ke
END:VEVENT
BEGIN:VEVENT
DTSTART;TZID=Europe/Moscow:20161019T080000
DTEND;TZID=Europe/Moscow:20161019T170000
DTSTAMP:20260419T170916
CREATED:20160714T061522Z
LAST-MODIFIED:20160714T061523Z
UID:2441-1476864000-1476896400@panafricanimg.co.ke
SUMMARY:CERTIFIED STRATEGIC HUMAN RESOURCE PROFESSIONAL (SHRP) INTERNATIONAL COURSE
DESCRIPTION:More details coming soon.
URL:http://panafricanimg.co.ke/event/certified-strategic-human-resource-professional-shrp-international-course/
ORGANIZER;CN="PAN AFRICAN INSTITUTE OF MANAGEMENT AND GOVERNANCE":MAILTO:info@panafricanimg.co.ke
END:VEVENT
BEGIN:VEVENT
DTSTART;TZID=Europe/Moscow:20161012T080000
DTEND;TZID=Europe/Moscow:20161014T170000
DTSTAMP:20260419T170916
CREATED:20160714T060855Z
LAST-MODIFIED:20160805T084319Z
UID:2436-1476259200-1476464400@panafricanimg.co.ke
SUMMARY:HIV/AIDS
DESCRIPTION:
URL:http://panafricanimg.co.ke/event/hivaids/
LOCATION:Merica Hotel\, Nakuru\, Kenya
ORGANIZER;CN="PAN AFRICAN INSTITUTE OF MANAGEMENT AND GOVERNANCE":MAILTO:info@panafricanimg.co.ke
END:VEVENT
BEGIN:VEVENT
DTSTART;TZID=Europe/Moscow:20161012T080000
DTEND;TZID=Europe/Moscow:20161014T170000
DTSTAMP:20260419T170916
CREATED:20160714T060624Z
LAST-MODIFIED:20160805T084225Z
UID:2435-1476259200-1476464400@panafricanimg.co.ke
SUMMARY:GENDER & DISABILITY MAINSTREAMING
DESCRIPTION:
URL:http://panafricanimg.co.ke/event/gender-disability-mainstreaming/
LOCATION:Merica Hotel\, Nakuru\, Kenya
ORGANIZER;CN="PAN AFRICAN INSTITUTE OF MANAGEMENT AND GOVERNANCE":MAILTO:info@panafricanimg.co.ke
END:VEVENT
BEGIN:VEVENT
DTSTART;TZID=Europe/Moscow:20161012T080000
DTEND;TZID=Europe/Moscow:20161012T170000
DTSTAMP:20260419T170916
CREATED:20160714T061401Z
LAST-MODIFIED:20160714T061416Z
UID:2440-1476259200-1476291600@panafricanimg.co.ke
SUMMARY:CYBER SECURITY RISK INVESTIGATION & MANAGEMENT STANDARDS WORKSHOP
DESCRIPTION:More details coming soon.
URL:http://panafricanimg.co.ke/event/cyber-security-risk-investigation-management-standards-workshop/
ORGANIZER;CN="PAN AFRICAN INSTITUTE OF MANAGEMENT AND GOVERNANCE":MAILTO:info@panafricanimg.co.ke
END:VEVENT
BEGIN:VEVENT
DTSTART;TZID=Europe/Moscow:20161003T080000
DTEND;TZID=Europe/Moscow:20161003T170000
DTSTAMP:20260419T170916
CREATED:20160714T061247Z
LAST-MODIFIED:20160714T061247Z
UID:2439-1475481600-1475514000@panafricanimg.co.ke
SUMMARY:SENSITIZATION ON PUBLIC PROCUREMENT AND (ASSET DISPOSAL ACT 2015 NEW LAW)\, AND TENDER EVALUATION PROCEDURES WORKSHOP
DESCRIPTION:More details coming soon.
URL:http://panafricanimg.co.ke/event/sensitization-on-public-procurement-and-asset-disposal-act-2015-new-law-and-tender-evaluation-procedures-workshop/
ORGANIZER;CN="PAN AFRICAN INSTITUTE OF MANAGEMENT AND GOVERNANCE":MAILTO:info@panafricanimg.co.ke
END:VEVENT
BEGIN:VEVENT
DTSTART;TZID=UTC:20160928T080000
DTEND;TZID=UTC:20160930T170000
DTSTAMP:20260419T170916
CREATED:20160805T084110Z
LAST-MODIFIED:20160805T084111Z
UID:2608-1475049600-1475254800@panafricanimg.co.ke
SUMMARY:DISABILITY MAINSTREAMING
DESCRIPTION:
URL:http://panafricanimg.co.ke/event/disability-mainstreaming/
LOCATION:Acacia\, Kisumu\, Kenya
ORGANIZER;CN="PAN AFRICAN INSTITUTE OF MANAGEMENT AND GOVERNANCE":MAILTO:info@panafricanimg.co.ke
END:VEVENT
BEGIN:VEVENT
DTSTART;VALUE=DATE:20160925
DTEND;VALUE=DATE:20161002
DTSTAMP:20260419T170916
CREATED:20160714T055750Z
LAST-MODIFIED:20160805T081622Z
UID:2433-1474761600-1475366399@panafricanimg.co.ke
SUMMARY:STRATEGIC  LEADERSHIP & GOOD GOVERNANCE
DESCRIPTION:
URL:http://panafricanimg.co.ke/event/strategic-leadership/
LOCATION:ParkRoyal\, Singapore
ORGANIZER;CN="PAN AFRICAN INSTITUTE OF MANAGEMENT AND GOVERNANCE":MAILTO:info@panafricanimg.co.ke
END:VEVENT
BEGIN:VEVENT
DTSTART;VALUE=DATE:20160907
DTEND;VALUE=DATE:20160910
DTSTAMP:20260419T170916
CREATED:20160805T081410Z
LAST-MODIFIED:20160805T081925Z
UID:2606-1473206400-1473465599@panafricanimg.co.ke
SUMMARY:ALCOHOL & DRUG ABUSE (ADA)
DESCRIPTION:
URL:http://panafricanimg.co.ke/event/ada-ii/
LOCATION:Merica Hotel\, Nakuru\, Kenya
ORGANIZER;CN="PAN AFRICAN INSTITUTE OF MANAGEMENT AND GOVERNANCE":MAILTO:info@panafricanimg.co.ke
END:VEVENT
BEGIN:VEVENT
DTSTART;VALUE=DATE:20160817
DTEND;VALUE=DATE:20160820
DTSTAMP:20260419T170916
CREATED:20160714T054937Z
LAST-MODIFIED:20160714T055907Z
UID:2429-1471392000-1471651199@panafricanimg.co.ke
SUMMARY:WOMEN IN LEADERSHIP
DESCRIPTION:
URL:http://panafricanimg.co.ke/event/women-in-leadership/
LOCATION:Mombasa Travelers Beach Hotel\, Mombasa\, Kenya
ORGANIZER;CN="PAN AFRICAN INSTITUTE OF MANAGEMENT AND GOVERNANCE":MAILTO:info@panafricanimg.co.ke
END:VEVENT
BEGIN:VEVENT
DTSTART;TZID=Europe/Moscow:20160802T080000
DTEND;TZID=Europe/Moscow:20160802T170000
DTSTAMP:20260419T170916
CREATED:20160714T061020Z
LAST-MODIFIED:20160714T061020Z
UID:2437-1470124800-1470157200@panafricanimg.co.ke
SUMMARY:SUBSTANCE ABUSE( ALCOHOL &SUBSTANCE ABUSE)
DESCRIPTION:More details coming soon.
URL:http://panafricanimg.co.ke/event/substance-abuse-alcohol-substance-abuse/
ORGANIZER;CN="PAN AFRICAN INSTITUTE OF MANAGEMENT AND GOVERNANCE":MAILTO:info@panafricanimg.co.ke
END:VEVENT
END:VCALENDAR